BEGIN:VCALENDAR
VERSION:2.0
PRODID:oed-oehling.gv.at
X-PUBLISHED-TTL:P1D
BEGIN:VEVENT
UID:69e55097cde75
DTSTART:20260402T193000
SEQUENCE:0
TRANSP:OPAQUE
DTEND:20260402T193000
LOCATION:Pfarrkirche Öhling 
SUMMARY:Abendmahlsfeier am Gründonnerstag 
CLASS:PUBLIC
DESCRIPTION:Gottesdienst zum Gründonnerstag mit dem Chorus Angelorum 
DTSTAMP:20260420T000055Z
END:VEVENT
END:VCALENDAR