BEGIN:VCALENDAR
VERSION:2.0
PRODID:oed-oehling.gv.at
X-PUBLISHED-TTL:P1D
BEGIN:VEVENT
UID:69e54fec5653b
DTSTART:20260329T093000
SEQUENCE:0
TRANSP:OPAQUE
DTEND:20260329T093000
LOCATION:Pfarrkirche Öhling 
SUMMARY:PALMSONNTAG 
CLASS:PUBLIC
DESCRIPTION:Palmweihe am Kirchenplatz und Einzug in die Kirche\nzum Gottesd
 ienst. 
DTSTAMP:20260419T235804Z
END:VEVENT
END:VCALENDAR