BEGIN:VCALENDAR
VERSION:2.0
PRODID:oed-oehling.gv.at
X-PUBLISHED-TTL:P1D
BEGIN:VEVENT
UID:69e72f131d5da
DTSTART:20260327T190000
SEQUENCE:0
TRANSP:OPAQUE
DTEND:20260327T190000
LOCATION:Pfarrkirche Öhling 
SUMMARY:BUSSANDACHT
CLASS:PUBLIC
DESCRIPTION:Bussandacht - Vorbereitung auf das Osterfest! 
DTSTAMP:20260421T100227Z
END:VEVENT
END:VCALENDAR