BEGIN:VCALENDAR
VERSION:2.0
PRODID:oed-oehling.gv.at
X-PUBLISHED-TTL:P1D
BEGIN:VEVENT
UID:69e54fed360a7
DTSTART:20260324T150000
SEQUENCE:0
TRANSP:OPAQUE
DTEND:20260324T150000
LOCATION:Pfarrsaal Öhling
SUMMARY:Seniorencafe
CLASS:PUBLIC
DESCRIPTION:Herzliche Einladung zum unterhaltsamen Beisammensein!\nAbschlus
 s ist um 17:30 mit einem Gottesdienst.\n
DTSTAMP:20260419T235805Z
END:VEVENT
END:VCALENDAR