BEGIN:VCALENDAR
VERSION:2.0
PRODID:oed-oehling.gv.at
X-PUBLISHED-TTL:P1D
BEGIN:VEVENT
UID:69e5509203fa8
DTSTART:20260322T093000
SEQUENCE:0
TRANSP:OPAQUE
DTEND:20260322T093000
LOCATION:Pfarrkirche Öhling 
SUMMARY:PALMBUSCHENVERKAUF
CLASS:PUBLIC
DESCRIPTION:Am Wochenende 21./22.3. werden nach den Gottesdiensten die Palm
 buschen zum Verkauf angeboten.\n1 Palmbuschen kosten € 3\,-- 
DTSTAMP:20260420T000050Z
END:VEVENT
END:VCALENDAR