BEGIN:VCALENDAR
VERSION:2.0
PRODID:oed-oehling.gv.at
X-PUBLISHED-TTL:P1D
BEGIN:VEVENT
UID:69e54f5e3b92a
DTSTART:20260319T150000
SEQUENCE:0
TRANSP:OPAQUE
DTEND:20260319T150000
LOCATION:Pfarrsaal Öhling
SUMMARY:PALMBUSCHENBINDEN
CLASS:PUBLIC
DESCRIPTION:Die Palmbuschen werden im Pfarrsaal gebunden.\nHerzliche Einlad
 ung dazu! 
DTSTAMP:20260419T235542Z
END:VEVENT
END:VCALENDAR