BEGIN:VCALENDAR
VERSION:2.0
PRODID:reinsberg.gv.at
X-PUBLISHED-TTL:P1D
BEGIN:VEVENT
UID:69e8a6f813d56
DTSTART:20260430T000000
SEQUENCE:0
TRANSP:OPAQUE
DTEND:20260430T030000
SUMMARY:Maibaumaufstellen
CLASS:PUBLIC
DTSTAMP:20260422T124616Z
END:VEVENT
END:VCALENDAR