BEGIN:VCALENDAR
VERSION:2.0
PRODID:oed-oehling.gv.at
X-PUBLISHED-TTL:P1D
BEGIN:VEVENT
UID:69e7344bc207e
DTSTART:20260324T190000
SEQUENCE:0
TRANSP:OPAQUE
DTEND:20260324T190000
LOCATION:Turnsaal VS Oed
SUMMARY:Pilates
CLASS:PUBLIC
DTSTAMP:20260421T102443Z
END:VEVENT
END:VCALENDAR