BEGIN:VCALENDAR
VERSION:2.0
PRODID:oed-oehling.gv.at
X-PUBLISHED-TTL:P1D
BEGIN:VEVENT
UID:69e54e839b005
DTSTART:20260316T193000
SEQUENCE:0
TRANSP:OPAQUE
DTEND:20260316T193000
LOCATION:Turnsaal VS Oed
SUMMARY:Ausdauer\,  Kraft\, Koordination
CLASS:PUBLIC
DTSTAMP:20260419T235203Z
END:VEVENT
END:VCALENDAR