BEGIN:VCALENDAR
VERSION:2.0
PRODID:ernsthofen.gv.at
X-PUBLISHED-TTL:P1D
BEGIN:VEVENT
UID:69e77d2a7fac7
DTSTART:20260918T193000
SEQUENCE:0
TRANSP:OPAQUE
DTEND:20260918T030000
LOCATION:Wolfgangskirche Kanning
SUMMARY:Konzert \"Vienna Rest in Peace\"
CLASS:PUBLIC
DTSTAMP:20260421T153538Z
END:VEVENT
END:VCALENDAR