BEGIN:VCALENDAR
VERSION:2.0
PRODID:st-pantaleon-erla.gv.at
X-PUBLISHED-TTL:P1D
BEGIN:VEVENT
UID:69e9a3062e0e5
DTSTART:20260529T140000
SEQUENCE:0
TRANSP:OPAQUE
DTEND:20260529T170000
LOCATION:Fachschule Erla
SUMMARY:Kinderfest
CLASS:PUBLIC
DTSTAMP:20260423T064142Z
END:VEVENT
END:VCALENDAR