BEGIN:VCALENDAR
VERSION:2.0
PRODID:st-georgen-reith.gv.at
X-PUBLISHED-TTL:P1D
BEGIN:VEVENT
UID:69e8ba8aa9b76
DTSTART:20260620T000000
SEQUENCE:0
TRANSP:OPAQUE
DTEND:20260620T000000
SUMMARY:Sonnenwende
CLASS:PUBLIC
DTSTAMP:20260422T140946Z
END:VEVENT
END:VCALENDAR