BEGIN:VCALENDAR
VERSION:2.0
PRODID:oed-oehling.gv.at
X-PUBLISHED-TTL:P1D
BEGIN:VEVENT
UID:69e4ced3a14b4
DTSTART:20260525T130000
SEQUENCE:0
TRANSP:OPAQUE
DTEND:20260525T235900
LOCATION:Beachhaus Oed
SUMMARY:Familien Radwandertag
CLASS:PUBLIC
DTSTAMP:20260419T144715Z
END:VEVENT
END:VCALENDAR