BEGIN:VCALENDAR
VERSION:2.0
PRODID:oed-oehling.gv.at
X-PUBLISHED-TTL:P1D
BEGIN:VEVENT
UID:69e550acd0582
DTSTART:20261205T180000
SEQUENCE:0
TRANSP:OPAQUE
DTEND:20261205T235900
LOCATION:Parkplatz hinter Sturmsaal
SUMMARY:Nikolausumzug
CLASS:PUBLIC
DTSTAMP:20260420T000116Z
END:VEVENT
END:VCALENDAR