BEGIN:VCALENDAR
VERSION:2.0
PRODID:st-pantaleon-erla.gv.at
X-PUBLISHED-TTL:P1D
BEGIN:VEVENT
UID:69e99e9f45a1f
DTSTART:20260612T190000
SEQUENCE:0
TRANSP:OPAQUE
DTEND:20260613T235900
LOCATION:Zieglerstadl St. Pantaleon
SUMMARY:Summer Opening
CLASS:PUBLIC
DTSTAMP:20260423T062255Z
END:VEVENT
END:VCALENDAR