BEGIN:VCALENDAR
VERSION:2.0
PRODID:oed-oehling.gv.at
X-PUBLISHED-TTL:P1D
BEGIN:VEVENT
UID:69e54eec30eaf
DTSTART:20260906T100000
SEQUENCE:0
TRANSP:OPAQUE
DTEND:20260906T100000
SUMMARY:Steckerlfisch FF Oed
CLASS:PUBLIC
DTSTAMP:20260419T235348Z
END:VEVENT
END:VCALENDAR