BEGIN:VCALENDAR
VERSION:2.0
PRODID:oed-oehling.gv.at
X-PUBLISHED-TTL:P1D
BEGIN:VEVENT
UID:69e733b44e948
DTSTART:20260517T100000
SEQUENCE:0
TRANSP:OPAQUE
DTEND:20260517T100000
SUMMARY:Frühshoppen FF Oed
CLASS:PUBLIC
DTSTAMP:20260421T102212Z
END:VEVENT
END:VCALENDAR