BEGIN:VCALENDAR
VERSION:2.0
PRODID:gresten.gv.at
X-PUBLISHED-TTL:P1D
BEGIN:VEVENT
UID:69e74b1e76f76
DTSTART:20260321T080500
SEQUENCE:0
TRANSP:OPAQUE
DTEND:20260321T080500
LOCATION:Betriebsgelände der FWG-Fernwärme Gresten 
SUMMARY:30 Jahre Fernwärme Gresten
CLASS:PUBLIC
DTSTAMP:20260421T120206Z
END:VEVENT
END:VCALENDAR