BEGIN:VCALENDAR
VERSION:2.0
PRODID:st-pantaleon-erla.gv.at
X-PUBLISHED-TTL:P1D
BEGIN:VEVENT
UID:69e9a12acbf26
DTSTART:20260426T070000
SEQUENCE:0
TRANSP:OPAQUE
DTEND:20260426T120000
LOCATION:Start: GH Reisinger
SUMMARY:47. Mostwandertag
CLASS:PUBLIC
DTSTAMP:20260423T063346Z
END:VEVENT
END:VCALENDAR