BEGIN:VCALENDAR
VERSION:2.0
PRODID:st-georgen-reith.gv.at
X-PUBLISHED-TTL:P1D
BEGIN:VEVENT
UID:69e8ba5d36179
DTSTART:20261212T000000
SEQUENCE:0
TRANSP:OPAQUE
DTEND:20261212T030000
SUMMARY:Reitherer Advent
CLASS:PUBLIC
DTSTAMP:20260422T140901Z
END:VEVENT
END:VCALENDAR