BEGIN:VCALENDAR
VERSION:2.0
PRODID:st-georgen-reith.gv.at
X-PUBLISHED-TTL:P1D
BEGIN:VEVENT
UID:69e8ba857ad40
DTSTART:20261115T000000
SEQUENCE:0
TRANSP:OPAQUE
DTEND:20261115T030000
LOCATION:Gemeindesaal
SUMMARY:Bäuerinnenfrühstück
CLASS:PUBLIC
DTSTAMP:20260422T140941Z
END:VEVENT
END:VCALENDAR