BEGIN:VCALENDAR
VERSION:2.0
PRODID:st-georgen-reith.gv.at
X-PUBLISHED-TTL:P1D
BEGIN:VEVENT
UID:69e8ba2ec1369
DTSTART:20261004T000000
SEQUENCE:0
TRANSP:OPAQUE
DTEND:20261004T030000
SUMMARY:Erntedank
CLASS:PUBLIC
DTSTAMP:20260422T140814Z
END:VEVENT
END:VCALENDAR