BEGIN:VCALENDAR
VERSION:2.0
PRODID:st-georgen-reith.gv.at
X-PUBLISHED-TTL:P1D
BEGIN:VEVENT
UID:69e8ba8b06034
DTSTART:20261003T000000
SEQUENCE:0
TRANSP:OPAQUE
DTEND:20261004T030000
SUMMARY:Tage der Blasmusik
CLASS:PUBLIC
DTSTAMP:20260422T140947Z
END:VEVENT
END:VCALENDAR