BEGIN:VCALENDAR
VERSION:2.0
PRODID:st-georgen-reith.gv.at
X-PUBLISHED-TTL:P1D
BEGIN:VEVENT
UID:69e8ba3850281
DTSTART:20260718T000000
SEQUENCE:0
TRANSP:OPAQUE
DTEND:20260718T030000
LOCATION:Jörglkapelle
SUMMARY:Jörglandacht
CLASS:PUBLIC
DTSTAMP:20260422T140824Z
END:VEVENT
END:VCALENDAR