BEGIN:VCALENDAR
VERSION:2.0
PRODID:st-georgen-reith.gv.at
X-PUBLISHED-TTL:P1D
BEGIN:VEVENT
UID:69e8ba852664e
DTSTART:20260705T000000
SEQUENCE:0
TRANSP:OPAQUE
DTEND:20260705T030000
LOCATION:Gipfel Alpl (Bauernboden)
SUMMARY:Alpl-Bergmesse
CLASS:PUBLIC
DTSTAMP:20260422T140941Z
END:VEVENT
END:VCALENDAR