BEGIN:VCALENDAR
VERSION:2.0
PRODID:st-georgen-reith.gv.at
X-PUBLISHED-TTL:P1D
BEGIN:VEVENT
UID:69e8b9fa4f579
DTSTART:20260617T000000
SEQUENCE:0
TRANSP:OPAQUE
DTEND:20260617T030000
LOCATION:Gemeindesaal
SUMMARY:Public Viewing WM
CLASS:PUBLIC
DTSTAMP:20260422T140722Z
END:VEVENT
END:VCALENDAR