BEGIN:VCALENDAR
VERSION:2.0
PRODID:st-pantaleon-erla.gv.at
X-PUBLISHED-TTL:P1D
BEGIN:VEVENT
UID:69e99fdf5f6d8
DTSTART:20260718T080000
SEQUENCE:0
TRANSP:OPAQUE
DTEND:20260719T190000
LOCATION:Gut Breitfeld
SUMMARY:Mostviertler Cup
CLASS:PUBLIC
DTSTAMP:20260423T062815Z
END:VEVENT
END:VCALENDAR