BEGIN:VCALENDAR
VERSION:2.0
PRODID:st-pantaleon-erla.gv.at
X-PUBLISHED-TTL:P1D
BEGIN:VEVENT
UID:69e9a289423bb
DTSTART:20260802T080000
SEQUENCE:0
TRANSP:OPAQUE
DTEND:20260802T230000
LOCATION:Gut Breitfeld
SUMMARY:3. Traktortreffen
CLASS:PUBLIC
DTSTAMP:20260423T063937Z
END:VEVENT
END:VCALENDAR