BEGIN:VCALENDAR
VERSION:2.0
PRODID:st-pantaleon-erla.gv.at
X-PUBLISHED-TTL:P1D
BEGIN:VEVENT
UID:69e9a3da05e4f
DTSTART:20260824T060000
SEQUENCE:0
TRANSP:OPAQUE
DTEND:20260827T220000
LOCATION:Gut Breitfeld
SUMMARY:Reitwoche/Übungswoche Sonderprüfungen
CLASS:PUBLIC
DTSTAMP:20260423T064514Z
END:VEVENT
END:VCALENDAR