BEGIN:VCALENDAR
VERSION:2.0
PRODID:behamberg.gv.at
X-PUBLISHED-TTL:P1D
BEGIN:VEVENT
UID:69e5ee03d4eff
DTSTART:20261107T193000
SEQUENCE:0
TRANSP:OPAQUE
DTEND:20261107T223000
LOCATION:Volksschule Behamberg
SUMMARY:Herbstkonzert MV Wachtberg
CLASS:PUBLIC
DTSTAMP:20260420T111235Z
END:VEVENT
END:VCALENDAR