BEGIN:VCALENDAR
VERSION:2.0
PRODID:ertl.gv.at
X-PUBLISHED-TTL:P1D
BEGIN:VEVENT
UID:69ea2d1644150
DTSTART:20260704T000000
SEQUENCE:0
TRANSP:OPAQUE
DTEND:20260705T000000
SUMMARY:Dorffest Ertl
CLASS:PUBLIC
DTSTAMP:20260423T163046Z
END:VEVENT
END:VCALENDAR