BEGIN:VCALENDAR
VERSION:2.0
PRODID:behamberg.gv.at
X-PUBLISHED-TTL:P1D
BEGIN:VEVENT
UID:69e5fcba9a875
DTSTART:20260821T190000
SEQUENCE:0
TRANSP:OPAQUE
DTEND:20260823T190000
LOCATION:Wachtbergwiese
SUMMARY:Zeltfest am Wachtberg
CLASS:PUBLIC
DTSTAMP:20260420T121522Z
END:VEVENT
END:VCALENDAR