BEGIN:VCALENDAR
VERSION:2.0
PRODID:ertl.gv.at
X-PUBLISHED-TTL:P1D
BEGIN:VEVENT
UID:69e900eee5450
DTSTART:20260306T163000
SEQUENCE:0
TRANSP:OPAQUE
DTEND:20260308T000000
LOCATION:Mittelschule Ertl
SUMMARY:1.LOSI Juniors CUP 
CLASS:PUBLIC
DESCRIPTION:Jugendfussball - Kunstrasenturnier von U8-U15
DTSTAMP:20260422T191006Z
END:VEVENT
END:VCALENDAR