BEGIN:VCALENDAR
VERSION:2.0
PRODID:www.ardagger.gv.at
X-PUBLISHED-TTL:P1D
BEGIN:VEVENT
UID:69e61abd2b846
DTSTART:20260415T075000
SEQUENCE:0
TRANSP:OPAQUE
DTEND:20260415T183000
LOCATION:wird bei der Anmeldung bekannt gegeben
SUMMARY:Tagesausflug des PVÖ Neustadtl-Ardagger
CLASS:PUBLIC
DESCRIPTION:Ziele: Wasserfall und Holzknechtmuseum
DTSTAMP:20260420T142325Z
END:VEVENT
END:VCALENDAR