BEGIN:VCALENDAR
VERSION:2.0
PRODID:st-pantaleon-erla.gv.at
X-PUBLISHED-TTL:P1D
BEGIN:VEVENT
UID:69e9a255a4c9a
DTSTART:20260502T000000
SEQUENCE:0
TRANSP:OPAQUE
DTEND:20260503T000000
SUMMARY:Jubiläumsfest Schuhplattler- und Trachtenverein
CLASS:PUBLIC
DTSTAMP:20260423T063845Z
END:VEVENT
END:VCALENDAR