BEGIN:VCALENDAR
VERSION:2.0
PRODID:gresten.gv.at
X-PUBLISHED-TTL:P1D
BEGIN:VEVENT
UID:69e74b8decb18
DTSTART:20260314T060000
SEQUENCE:0
TRANSP:OPAQUE
DTEND:20260314T000000
SUMMARY:Schitour Gsuchmauer
CLASS:PUBLIC
DESCRIPTION:Gsuchmauer 2116 m (Gesäuse)\; Aufstieg: vom Gscheidegger – P
 farralm – Glanegg\; 3\,5  Std\, 1100 Hm bis 35°\, Abfahrt: Zur Hüpflin
 ger Alm (ca. 1500m) kurze Steilstücke bis 35° -  200Hm Aufstieg zum Hüp
 flingerhals – Abfahrt zur Neuburgalm – Gscheidegger\; Anmeldung und In
 fos bei Gerhard Pechhacker\, Tel: 0650 / 354 93 57\; Mail: g.pechhacker@ao
 n.at\;\n
DTSTAMP:20260421T120357Z
END:VEVENT
END:VCALENDAR