BEGIN:VCALENDAR
VERSION:2.0
PRODID:oed-oehling.gv.at
X-PUBLISHED-TTL:P1D
BEGIN:VEVENT
UID:69eb5ca834004
DTSTART:20260613T093000
SEQUENCE:0
TRANSP:OPAQUE
DTEND:20260613T110000
LOCATION:Pfarrkirche Oed 
SUMMARY:Pfarrfirmung Oed
CLASS:PUBLIC
DTSTAMP:20260424T140600Z
END:VEVENT
END:VCALENDAR