BEGIN:VCALENDAR
VERSION:2.0
PRODID:oed-oehling.gv.at
X-PUBLISHED-TTL:P1D
BEGIN:VEVENT
UID:69eb5d503c20e
DTSTART:20260603T190000
SEQUENCE:0
TRANSP:OPAQUE
DTEND:20260603T210000
LOCATION:Pfarrkirche Oed 
SUMMARY:Hl. Messe u. Fronleichnamsprozession
CLASS:PUBLIC
DTSTAMP:20260424T140848Z
END:VEVENT
END:VCALENDAR