BEGIN:VCALENDAR
VERSION:2.0
PRODID:oed-oehling.gv.at
X-PUBLISHED-TTL:P1D
BEGIN:VEVENT
UID:69eb5dae86dfc
DTSTART:20260426T093000
SEQUENCE:0
TRANSP:OPAQUE
DTEND:20260426T103000
LOCATION:Pfarrkirche Oed 
SUMMARY:Erstkommunion Pfarre Oed
CLASS:PUBLIC
DTSTAMP:20260424T141022Z
END:VEVENT
END:VCALENDAR