BEGIN:VCALENDAR
VERSION:2.0
PRODID:st-pantaleon-erla.gv.at
X-PUBLISHED-TTL:P1D
BEGIN:VEVENT
UID:69e9a0488e7bf
DTSTART:20260424T130000
SEQUENCE:0
TRANSP:OPAQUE
DTEND:20260425T170000
SUMMARY:Maispielen - Von Haus zu Haus
CLASS:PUBLIC
DTSTAMP:20260423T063000Z
END:VEVENT
END:VCALENDAR