BEGIN:VCALENDAR
VERSION:2.0
PRODID:st-georgen-ybbsfelde.gv.at
X-PUBLISHED-TTL:P1D
BEGIN:VEVENT
UID:69e7c0e18d1ea
DTSTART:20251129T170000
SEQUENCE:0
TRANSP:OPAQUE
DTEND:20251129T170000
LOCATION:Am Kirchenberg
SUMMARY:43. St. Georgner Christkindlmarkt: Advent-Warm-Up
CLASS:PUBLIC
DESCRIPTION:\n\nGemütliche Einstimmung auf den ersten Advent - schon am Vo
 rabend des St. Georgner Christkindlmarkts öffnen die örtlichen Vereine i
 hre Verkaufsstände vor dem Georgsaal und laden zu duftendem Punsch\, hei
 ßem Glühwein und fröhlichem Beisammensein ein.Musikalisch umrahmt wird 
 der Abend durch die festlichen Klänge der Musikschule Ybbsfeld.
DTSTAMP:20260421T202433Z
END:VEVENT
END:VCALENDAR