BEGIN:VCALENDAR
VERSION:2.0
PRODID:ertl.gv.at
X-PUBLISHED-TTL:P1D
BEGIN:VEVENT
UID:69e764a11b6de
DTSTART:20260501T093000
SEQUENCE:0
TRANSP:OPAQUE
DTEND:20260501T140000
SUMMARY:Maibaum Aufstellen
CLASS:PUBLIC
DTSTAMP:20260421T135057Z
END:VEVENT
END:VCALENDAR