BEGIN:VCALENDAR
VERSION:2.0
PRODID:ertl.gv.at
X-PUBLISHED-TTL:P1D
BEGIN:VEVENT
UID:69ea2d687eea6
DTSTART:20260517T100000
SEQUENCE:0
TRANSP:OPAQUE
DTEND:20260517T170000
LOCATION:Ortsgebiet von Ertl
SUMMARY:Kranzlsingen
CLASS:PUBLIC
DTSTAMP:20260423T163208Z
END:VEVENT
END:VCALENDAR