BEGIN:VCALENDAR
VERSION:2.0
PRODID:behamberg.gv.at
X-PUBLISHED-TTL:P1D
BEGIN:VEVENT
UID:69e5fb9932341
DTSTART:20260618T180000
SEQUENCE:0
TRANSP:OPAQUE
DTEND:20260618T190000
LOCATION:MS Ernsthofen - im Gebäude der VS
SUMMARY:Orchestertreffen
CLASS:PUBLIC
DTSTAMP:20260420T121033Z
END:VEVENT
END:VCALENDAR