BEGIN:VCALENDAR
VERSION:2.0
PRODID:behamberg.gv.at
X-PUBLISHED-TTL:P1D
BEGIN:VEVENT
UID:69e5edf3877b4
DTSTART:20260418T100800
SEQUENCE:0
TRANSP:OPAQUE
DTEND:20260418T130000
LOCATION:Musikschule Haidershofen
SUMMARY:Tag der offenen Tür
CLASS:PUBLIC
DESCRIPTION:lerne und probiere alle Instrumente
DTSTAMP:20260420T111219Z
END:VEVENT
END:VCALENDAR