BEGIN:VCALENDAR
VERSION:2.0
PRODID:oed-oehling.gv.at
X-PUBLISHED-TTL:P1D
BEGIN:VEVENT
UID:69e551a117c25
DTSTART:20260418T160000
SEQUENCE:0
TRANSP:OPAQUE
DTEND:20260418T170000
LOCATION:Oed\, Sturmhof
SUMMARY:Konzert der Streicher und Sänger
CLASS:PUBLIC
DESCRIPTION:Konzert der Streicher und Sänger
DTSTAMP:20260420T000521Z
END:VEVENT
END:VCALENDAR