BEGIN:VCALENDAR
VERSION:2.0
PRODID:oed-oehling.gv.at
X-PUBLISHED-TTL:P1D
BEGIN:VEVENT
UID:69eb5da9666c6
DTSTART:20260505T150000
SEQUENCE:0
TRANSP:OPAQUE
DTEND:20260505T170000
LOCATION:Aschbach-Markt\, Volks- und Mittelschule
SUMMARY:Tag des offenen Ateliers
CLASS:PUBLIC
DESCRIPTION:Schnupperstunden der Kunstfächer Malerei & Zeichung und Design
 werkstatt
DTSTAMP:20260424T141017Z
END:VEVENT
END:VCALENDAR