BEGIN:VCALENDAR
VERSION:2.0
PRODID:st-pantaleon-erla.gv.at
X-PUBLISHED-TTL:P1D
BEGIN:VEVENT
UID:69e9a45be9efb
DTSTART:20260627T180000
SEQUENCE:0
TRANSP:OPAQUE
DTEND:20260627T235500
LOCATION:Pfarre Erla
SUMMARY:Dämmerschoppen Pfarrhof Erla
CLASS:PUBLIC
DTSTAMP:20260423T064723Z
END:VEVENT
END:VCALENDAR