BEGIN:VCALENDAR
VERSION:2.0
PRODID:www.ardagger.gv.at
X-PUBLISHED-TTL:P1D
BEGIN:VEVENT
UID:69e75eaee4412
DTSTART:20250824T083000
SEQUENCE:0
TRANSP:OPAQUE
DTEND:20250824T120000
LOCATION:Gasthaus Kremslehner
SUMMARY:Blutspendeaktion
CLASS:PUBLIC
DESCRIPTION:Die Lj Stephanshart lädt herzlich ein zur jährlichen Blutspen
 deaktion im Gasthaus Kremslehner.\nBitte beachten Sie die neue Spendenfreq
 uenz:\nFrauen 3x\, Männer 4x pro letzte 365 Tage!\n
DTSTAMP:20260421T132534Z
END:VEVENT
END:VCALENDAR