BEGIN:VCALENDAR
VERSION:2.0
PRODID:www.ardagger.gv.at
X-PUBLISHED-TTL:P1D
BEGIN:VEVENT
UID:69e75fa06c036
DTSTART:20250822T190000
SEQUENCE:0
TRANSP:OPAQUE
DTEND:20250822T210000
LOCATION:Sportanlage SCU Ardagger
SUMMARY:SCU Ardagger - SC Wieselburg
CLASS:PUBLIC
DTSTAMP:20260421T132936Z
END:VEVENT
END:VCALENDAR